BEGIN:VCALENDAR
VERSION:2.0
PRODID:-//Squarespace Inc/Squarespace 6//v6//EN
BEGIN:VEVENT
UID:5b122f612b6a28afda674153@squarespace.com
DTSTAMP:20180602T061043Z
DTSTART:20180606T093000Z
DTEND:20180606T150000Z
SUMMARY:Peter & Katheryn Yaxley @ Blue Mountains Firehub
GEO:-33.747733;150.615013
LOCATION:Blue Mountains Firehub\, 31 Layton Avenue\, Blaxland\, NSW\, 2774\
 , Australia
END:VEVENT
END:VCALENDAR
