BEGIN:VCALENDAR
VERSION:2.0
PRODID:-//Squarespace Inc/Squarespace 6//v6//EN
BEGIN:VEVENT
UID:5bf298eb032be406b1aa23ba@squarespace.com
DTSTAMP:20181119T111852Z
DTSTART:20190123T113000Z
DTEND:20190126T123000Z
SUMMARY:World Generation Gathering / Generation Fire Retreat
END:VEVENT
END:VCALENDAR
