BEGIN:VCALENDAR
VERSION:2.0
PRODID:-//Squarespace Inc/Squarespace 6//v6//EN
BEGIN:VEVENT
UID:5cb863f4f9619a022580f0c5@squarespace.com
DTSTAMP:20190420T021728Z
DTSTART:20190504T080000Z
DTEND:20190504T120000Z
SUMMARY:United Prayer Furnace @ YWAM Island Breeze
GEO:-33.75346;150.854657
LOCATION:YWAM Island Breeze\, 180 Power Street\, Plumpton\, NSW\, 2761\, Au
 stralia
END:VEVENT
END:VCALENDAR
