BEGIN:VCALENDAR
VERSION:2.0
PRODID:-//Squarespace Inc/Squarespace 6//v6//EN
BEGIN:VEVENT
UID:5cb868b09b747a750ac93705@squarespace.com
DTSTAMP:20190420T021744Z
DTSTART:20190511T080000Z
DTEND:20190511T120000Z
SUMMARY:United Prayer Furnace @ CLG Arndell Park
GEO:-33.790234;150.88959
LOCATION:Church of the Living God\, 40/70 Holbeche Road\, Arndell Park\, NS
 W\, 2148\, Australia
END:VEVENT
END:VCALENDAR
