BEGIN:VCALENDAR
VERSION:2.0
PRODID:-//Squarespace Inc/Squarespace 6//v6//EN
BEGIN:VEVENT
UID:5c77b2f5419202f2b762e1a9@squarespace.com
DTSTAMP:20190228T103502Z
DTSTART:20190301T230000Z
DTEND:20190302T050000Z
SUMMARY:National Day of Prayer &amp\; Fasting / United Prayer Day
GEO:-33.728449;150.980467
LOCATION:Dayspring Church\, 15 Salisbury Rd\,\, Castle Hill\, Australia
END:VEVENT
END:VCALENDAR
