BEGIN:VCALENDAR
VERSION:2.0
PRODID:-//Squarespace Inc/Squarespace 6//v6//EN
BEGIN:VEVENT
UID:5f76b645720d8b245762b8cd@squarespace.com
DTSTAMP:20201002T061225Z
DTSTART:20201010T070000Z
DTEND:20201010T110000Z
SUMMARY:October Prayer Furnace 
GEO:-33.694641;150.314488
LOCATION:Lighthouse CHurch\, 126 Victoria Street\, Katoomba\, NSW\, 2780\, 
 Australia
END:VEVENT
END:VCALENDAR
