BEGIN:VCALENDAR
VERSION:2.0
PRODID:-//Squarespace Inc/Squarespace 6//v6//EN
BEGIN:VEVENT
UID:5f3fbbd0004bb2062bce054e@squarespace.com
DTSTAMP:20201002T051029Z
DTSTART:20200912T080000Z
DTEND:20200912T120000Z
SUMMARY:Prayer Furnace
GEO:-33.694641;150.314488
LOCATION:Lighthouse CHurch\, 126 Victoria Street\, Katoomba\, NSW\, 2780\, 
 Australia
END:VEVENT
END:VCALENDAR
