BEGIN:VCALENDAR
VERSION:2.0
PRODID:-//Squarespace Inc/Squarespace 6//v6//EN
BEGIN:VEVENT
UID:5f8a5152a0a1e63ddfc3da08@squarespace.com
DTSTAMP:20201017T021505Z
DTSTART:20201114T070000Z
DTEND:20201114T110000Z
SUMMARY:November Prayer Furnace  
GEO:-33.694641;150.314488
LOCATION:Lighthouse CHurch\, 126 Victoria Street\, Katoomba\, NSW\, 2780\, 
 Australia
END:VEVENT
END:VCALENDAR
