BEGIN:VCALENDAR
VERSION:2.0
PRODID:-//Squarespace Inc/Squarespace 6//v6//EN
BEGIN:VEVENT
UID:5cb90f0915fcc034725ef400@squarespace.com
DTSTAMP:20190420T021715Z
DTSTART:20190504T073000Z
DTEND:20190504T103000Z
SUMMARY:United Prayer Furnace Nanango
GEO:-26.672114;151.990906
LOCATION:Nanango Markets\, Nanango Showgrounds\, Cairns Street Nanango QLD 
 4615\, Australia
END:VEVENT
END:VCALENDAR
