BEGIN:VCALENDAR
VERSION:2.0
PRODID:-//Squarespace Inc/Squarespace 6//v6//EN
BEGIN:VEVENT
UID:5fc2ded63485235c8625b109@squarespace.com
DTSTAMP:20201211T212756Z
DTSTART:20201212T070000Z
DTEND:20201212T110000Z
SUMMARY:December Prayer Furnace 
GEO:-33.694641;150.314488
LOCATION:Lighthouse CHurch\, 126 Victoria Street\, Katoomba\, NSW\, 2780\, 
 Australia
END:VEVENT
END:VCALENDAR
