BEGIN:VCALENDAR
VERSION:2.0
PRODID:-//Squarespace Inc/Squarespace 6//v6//EN
BEGIN:VEVENT
UID:5f143f6086531d20ab6e308e@squarespace.com
DTSTAMP:20200728T135055Z
DTSTART:20200808T060000Z
DTEND:20200808T113000Z
SUMMARY:Reunion &amp\; Prayer Furnace 
GEO:-33.694641;150.314488
LOCATION:Lighthouse Church\, 126 Victoria Street\, Katoomba\, NSW\, 2780\, 
 Australia
END:VEVENT
END:VCALENDAR
