BEGIN:VCALENDAR
VERSION:2.0
PRODID:-//Squarespace Inc/Squarespace 6//v6//EN
BEGIN:VEVENT
UID:5c0ce961898583999df19301@squarespace.com
DTSTAMP:20181209T105027Z
DTSTART:20181216T000000Z
DTEND:20181216T040000Z
SUMMARY:Fire Hub Network - Jesus Celebration
GEO:-33.922363;150.834996
LOCATION:Fire Hub Jesus Celebration\, 160 Fifteenth Avenue\, West Hoxton\, 
 NSW\, 2171\, Australia
END:VEVENT
END:VCALENDAR
