BEGIN:VCALENDAR
VERSION:2.0
PRODID:-//Squarespace Inc/Squarespace 6//v6//EN
BEGIN:VEVENT
UID:5deb044714454b64bf07fd4a@squarespace.com
DTSTAMP:20191207T034451Z
DTSTART:20191210T100000Z
DTEND:20191210T120000Z
SUMMARY:It's Time to Connect Again - Zoom Call
END:VEVENT
END:VCALENDAR
