BEGIN:VCALENDAR
VERSION:2.0
PRODID:-//Squarespace Inc/Squarespace 6//v6//EN
BEGIN:VEVENT
UID:5b1fec112b6a284f827fd801@squarespace.com
DTSTAMP:20180615T132950Z
DTSTART:20180908T160000Z
DTEND:20180913T170000Z
SUMMARY:Generation Fire Global Gathering - Firestorm 2018
GEO:-45.876853;170.349312
LOCATION:Burns Lodge\, mosgiel\, New Zealand
END:VEVENT
END:VCALENDAR
