BEGIN:VCALENDAR
VERSION:2.0
PRODID:-//Squarespace Inc/Squarespace 6//v6//EN
BEGIN:VEVENT
UID:5eacdef5e85df0557faaea8a@squarespace.com
DTSTAMP:20200627T035952Z
DTSTART:20200630T093000Z
DTEND:20200630T110000Z
SUMMARY:Annual General Meeting
END:VEVENT
END:VCALENDAR
