BEGIN:VCALENDAR
VERSION:2.0
PRODID:-//Squarespace Inc/Squarespace 6//v6//EN
BEGIN:VEVENT
UID:5adac9caaa4a99162ab18743@squarespace.com
DTSTAMP:20180421T054314Z
DTSTART:20180520T050000Z
DTEND:20180520T090000Z
SUMMARY:Guest Speaker: David Hadi @ The Blue Mtns Firehub
GEO:-33.747733;150.615013
LOCATION:Firehub\, 31 Layton Avenue\, Blaxland\, NSW\, 2774\, Australia
END:VEVENT
END:VCALENDAR
