BEGIN:VCALENDAR
VERSION:2.0
PRODID:-//Squarespace Inc/Squarespace 6//v6//EN
BEGIN:VEVENT
UID:5b1fef381ae6cfddce06a509@squarespace.com
DTSTAMP:20180615T135143Z
DTSTART:20180722T053000Z
DTEND:20180722T093000Z
SUMMARY:Charlie Shamp @ The Blue Mtns Fire Hub
GEO:-33.747733;150.615013
LOCATION:Blue Mtns Firehub\, 31 Layton Avenue\, Blaxland\, Australia
END:VEVENT
END:VCALENDAR
