BEGIN:VCALENDAR
VERSION:2.0
PRODID:-//Squarespace Inc/Squarespace 6//v6//EN
BEGIN:VEVENT
UID:5b80e12f0ebbe8b9b8cac4dd@squarespace.com
DTSTAMP:20180825T051140Z
DTSTART:20180916T050000Z
DTEND:20180916T090000Z
SUMMARY:Belinda Williams @ The Firehub
GEO:-33.747733;150.615013
LOCATION:The Fire Hub\, 31 Layton Avenue\, Blaxland\, Australia
END:VEVENT
END:VCALENDAR
